BEGIN:VCALENDAR
VERSION:2.0
PRODID:-//Ohkolan nuorisoseura - ECPv6.15.20//NONSGML v1.0//EN
CALSCALE:GREGORIAN
METHOD:PUBLISH
X-ORIGINAL-URL:https://ohkolannuorisoseura.fi
X-WR-CALDESC:Tapahtumat Ohkolan nuorisoseura
REFRESH-INTERVAL;VALUE=DURATION:PT1H
X-Robots-Tag:noindex
X-PUBLISHED-TTL:PT1H
BEGIN:VTIMEZONE
TZID:Europe/Helsinki
BEGIN:DAYLIGHT
TZOFFSETFROM:+0200
TZOFFSETTO:+0300
TZNAME:EEST
DTSTART:20250330T010000
END:DAYLIGHT
BEGIN:STANDARD
TZOFFSETFROM:+0300
TZOFFSETTO:+0200
TZNAME:EET
DTSTART:20251026T010000
END:STANDARD
BEGIN:DAYLIGHT
TZOFFSETFROM:+0200
TZOFFSETTO:+0300
TZNAME:EEST
DTSTART:20260329T010000
END:DAYLIGHT
BEGIN:STANDARD
TZOFFSETFROM:+0300
TZOFFSETTO:+0200
TZNAME:EET
DTSTART:20261025T010000
END:STANDARD
BEGIN:DAYLIGHT
TZOFFSETFROM:+0200
TZOFFSETTO:+0300
TZNAME:EEST
DTSTART:20270328T010000
END:DAYLIGHT
BEGIN:STANDARD
TZOFFSETFROM:+0300
TZOFFSETTO:+0200
TZNAME:EET
DTSTART:20271031T010000
END:STANDARD
END:VTIMEZONE
BEGIN:VEVENT
DTSTART;TZID=Europe/Helsinki:20260223T170000
DTEND;TZID=Europe/Helsinki:20260223T180000
DTSTAMP:20260420T215018
CREATED:20260104T114227Z
LAST-MODIFIED:20260104T114227Z
UID:7825-1771866000-1771869600@ohkolannuorisoseura.fi
SUMMARY:Tyttö- ja tenavakerho
DESCRIPTION:
URL:https://ohkolannuorisoseura.fi/event/tytto-ja-tenavakerho-7/
END:VEVENT
BEGIN:VEVENT
DTSTART;TZID=Europe/Helsinki:20260223T180000
DTEND;TZID=Europe/Helsinki:20260223T200000
DTSTAMP:20260420T215018
CREATED:20260207T082503Z
LAST-MODIFIED:20260207T082503Z
UID:8061-1771869600-1771876800@ohkolannuorisoseura.fi
SUMMARY:Teatterilaiset
DESCRIPTION:
URL:https://ohkolannuorisoseura.fi/event/teatterilaiset-4/
END:VEVENT
BEGIN:VEVENT
DTSTART;TZID=Europe/Helsinki:20260224T180000
DTEND;TZID=Europe/Helsinki:20260224T193000
DTSTAMP:20260420T215018
CREATED:20260107T121839Z
LAST-MODIFIED:20260107T121839Z
UID:7920-1771956000-1771961400@ohkolannuorisoseura.fi
SUMMARY:Lasten teatteri
DESCRIPTION:
URL:https://ohkolannuorisoseura.fi/event/lasten-teatteri-32/
END:VEVENT
BEGIN:VEVENT
DTSTART;TZID=Europe/Helsinki:20260225T180000
DTEND;TZID=Europe/Helsinki:20260225T200000
DTSTAMP:20260420T215018
CREATED:20260108T110713Z
LAST-MODIFIED:20260108T110713Z
UID:7967-1772042400-1772049600@ohkolannuorisoseura.fi
SUMMARY:Tanssi & kehonhuolto
DESCRIPTION:
URL:https://ohkolannuorisoseura.fi/event/tanssi-kehonhuolto-7/
END:VEVENT
BEGIN:VEVENT
DTSTART;TZID=Europe/Helsinki:20260228T150000
DTEND;TZID=Europe/Helsinki:20260228T180000
DTSTAMP:20260420T215018
CREATED:20260105T192544Z
LAST-MODIFIED:20260105T192544Z
UID:7867-1772290800-1772301600@ohkolannuorisoseura.fi
SUMMARY:Teatteri varaus (aikuiset)
DESCRIPTION:
URL:https://ohkolannuorisoseura.fi/event/teatteri-varaus-aikuiset-4/
END:VEVENT
BEGIN:VEVENT
DTSTART;TZID=Europe/Helsinki:20260301T130000
DTEND;TZID=Europe/Helsinki:20260301T160000
DTSTAMP:20260420T215018
CREATED:20260105T192624Z
LAST-MODIFIED:20260105T192624Z
UID:7870-1772370000-1772380800@ohkolannuorisoseura.fi
SUMMARY:Teatteri varaus (aikuiset)
DESCRIPTION:
URL:https://ohkolannuorisoseura.fi/event/teatteri-varaus-aikuiset-5/
END:VEVENT
BEGIN:VEVENT
DTSTART;TZID=Europe/Helsinki:20260301T170000
DTEND;TZID=Europe/Helsinki:20260301T200000
DTSTAMP:20260420T215018
CREATED:20260113T182157Z
LAST-MODIFIED:20260113T182157Z
UID:8034-1772384400-1772395200@ohkolannuorisoseura.fi
SUMMARY:Vaellusporukka
DESCRIPTION:
URL:https://ohkolannuorisoseura.fi/event/vaellusporukka/
END:VEVENT
BEGIN:VEVENT
DTSTART;TZID=Europe/Helsinki:20260302T170000
DTEND;TZID=Europe/Helsinki:20260302T180000
DTSTAMP:20260420T215018
CREATED:20260104T114339Z
LAST-MODIFIED:20260104T114339Z
UID:7828-1772470800-1772474400@ohkolannuorisoseura.fi
SUMMARY:Tyttö- ja tenavakerho
DESCRIPTION:
URL:https://ohkolannuorisoseura.fi/event/tytto-ja-tenavakerho-8/
END:VEVENT
BEGIN:VEVENT
DTSTART;TZID=Europe/Helsinki:20260302T180000
DTEND;TZID=Europe/Helsinki:20260302T200000
DTSTAMP:20260420T215018
CREATED:20260207T082656Z
LAST-MODIFIED:20260207T082656Z
UID:8065-1772474400-1772481600@ohkolannuorisoseura.fi
SUMMARY:Teatterilaiset
DESCRIPTION:
URL:https://ohkolannuorisoseura.fi/event/teatterilaiset-5/
END:VEVENT
BEGIN:VEVENT
DTSTART;TZID=Europe/Helsinki:20260303T180000
DTEND;TZID=Europe/Helsinki:20260303T200000
DTSTAMP:20260420T215018
CREATED:20260107T121947Z
LAST-MODIFIED:20260107T121947Z
UID:7923-1772560800-1772568000@ohkolannuorisoseura.fi
SUMMARY:Lasten teatteri
DESCRIPTION:
URL:https://ohkolannuorisoseura.fi/event/lasten-teatteri-33/
END:VEVENT
BEGIN:VEVENT
DTSTART;TZID=Europe/Helsinki:20260304T180000
DTEND;TZID=Europe/Helsinki:20260304T200000
DTSTAMP:20260420T215018
CREATED:20260108T110739Z
LAST-MODIFIED:20260108T110739Z
UID:7970-1772647200-1772654400@ohkolannuorisoseura.fi
SUMMARY:Tanssi & kehonhuolto
DESCRIPTION:
URL:https://ohkolannuorisoseura.fi/event/tanssi-kehonhuolto-8/
END:VEVENT
BEGIN:VEVENT
DTSTART;TZID=Europe/Helsinki:20260309T170000
DTEND;TZID=Europe/Helsinki:20260309T170000
DTSTAMP:20260420T215018
CREATED:20260104T114437Z
LAST-MODIFIED:20260104T114437Z
UID:7831-1773075600-1773075600@ohkolannuorisoseura.fi
SUMMARY:Tyttö- ja tenavakerho
DESCRIPTION:
URL:https://ohkolannuorisoseura.fi/event/tytto-ja-tenavakerho-9/
END:VEVENT
BEGIN:VEVENT
DTSTART;TZID=Europe/Helsinki:20260310T180000
DTEND;TZID=Europe/Helsinki:20260310T193000
DTSTAMP:20260420T215018
CREATED:20260107T122315Z
LAST-MODIFIED:20260107T122315Z
UID:7926-1773165600-1773171000@ohkolannuorisoseura.fi
SUMMARY:Lasten teatteri
DESCRIPTION:
URL:https://ohkolannuorisoseura.fi/event/lasten-teatteri-34/
END:VEVENT
BEGIN:VEVENT
DTSTART;TZID=Europe/Helsinki:20260311T180000
DTEND;TZID=Europe/Helsinki:20260311T200000
DTSTAMP:20260420T215018
CREATED:20260108T110803Z
LAST-MODIFIED:20260108T110803Z
UID:7973-1773252000-1773259200@ohkolannuorisoseura.fi
SUMMARY:Tanssi & kehonhuolto
DESCRIPTION:
URL:https://ohkolannuorisoseura.fi/event/tanssi-kehonhuolto-9/
END:VEVENT
BEGIN:VEVENT
DTSTART;TZID=Europe/Helsinki:20260315T130000
DTEND;TZID=Europe/Helsinki:20260315T160000
DTSTAMP:20260420T215018
CREATED:20260105T192659Z
LAST-MODIFIED:20260105T192659Z
UID:7873-1773579600-1773590400@ohkolannuorisoseura.fi
SUMMARY:Teatteri varaus (aikuiset)
DESCRIPTION:
URL:https://ohkolannuorisoseura.fi/event/teatteri-varaus-aikuiset-6/
END:VEVENT
BEGIN:VEVENT
DTSTART;TZID=Europe/Helsinki:20260316T170000
DTEND;TZID=Europe/Helsinki:20260316T180000
DTSTAMP:20260420T215018
CREATED:20260104T114520Z
LAST-MODIFIED:20260104T114520Z
UID:7834-1773680400-1773684000@ohkolannuorisoseura.fi
SUMMARY:Tyttö- ja tenavakerho
DESCRIPTION:
URL:https://ohkolannuorisoseura.fi/event/tytto-ja-tenavakerho-10/
END:VEVENT
BEGIN:VEVENT
DTSTART;TZID=Europe/Helsinki:20260317T180000
DTEND;TZID=Europe/Helsinki:20260317T193000
DTSTAMP:20260420T215018
CREATED:20260107T122350Z
LAST-MODIFIED:20260107T122350Z
UID:7929-1773770400-1773775800@ohkolannuorisoseura.fi
SUMMARY:Lasten teatteri
DESCRIPTION:
URL:https://ohkolannuorisoseura.fi/event/lasten-teatteri-35/
END:VEVENT
BEGIN:VEVENT
DTSTART;TZID=Europe/Helsinki:20260318T180000
DTEND;TZID=Europe/Helsinki:20260318T200000
DTSTAMP:20260420T215018
CREATED:20260108T110832Z
LAST-MODIFIED:20260108T110832Z
UID:7976-1773856800-1773864000@ohkolannuorisoseura.fi
SUMMARY:Tanssi & kehonhuolto
DESCRIPTION:
URL:https://ohkolannuorisoseura.fi/event/tanssi-kehonhuolto-10/
END:VEVENT
BEGIN:VEVENT
DTSTART;TZID=Europe/Helsinki:20260319T180000
DTEND;TZID=Europe/Helsinki:20260319T210000
DTSTAMP:20260420T215018
CREATED:20260108T113959Z
LAST-MODIFIED:20260108T113959Z
UID:8021-1773943200-1773954000@ohkolannuorisoseura.fi
SUMMARY:Varaus
DESCRIPTION:
URL:https://ohkolannuorisoseura.fi/event/varaus-55/
END:VEVENT
BEGIN:VEVENT
DTSTART;TZID=Europe/Helsinki:20260322T130000
DTEND;TZID=Europe/Helsinki:20260322T160000
DTSTAMP:20260420T215018
CREATED:20260108T114039Z
LAST-MODIFIED:20260108T114039Z
UID:8024-1774184400-1774195200@ohkolannuorisoseura.fi
SUMMARY:Teatterilaiset
DESCRIPTION:
URL:https://ohkolannuorisoseura.fi/event/teatterilaiset/
END:VEVENT
BEGIN:VEVENT
DTSTART;TZID=Europe/Helsinki:20260322T170000
DTEND;TZID=Europe/Helsinki:20260322T210000
DTSTAMP:20260420T215018
CREATED:20260226T111220Z
LAST-MODIFIED:20260226T111220Z
UID:8086-1774198800-1774213200@ohkolannuorisoseura.fi
SUMMARY:Martat
DESCRIPTION:
URL:https://ohkolannuorisoseura.fi/event/martat-8/
END:VEVENT
BEGIN:VEVENT
DTSTART;TZID=Europe/Helsinki:20260323T170000
DTEND;TZID=Europe/Helsinki:20260323T180000
DTSTAMP:20260420T215018
CREATED:20260104T114557Z
LAST-MODIFIED:20260104T114557Z
UID:7837-1774285200-1774288800@ohkolannuorisoseura.fi
SUMMARY:Tyttö- ja tenavakerho
DESCRIPTION:
URL:https://ohkolannuorisoseura.fi/event/tytto-ja-tenavakerho-11/
END:VEVENT
BEGIN:VEVENT
DTSTART;TZID=Europe/Helsinki:20260324T180000
DTEND;TZID=Europe/Helsinki:20260324T193000
DTSTAMP:20260420T215018
CREATED:20260107T122424Z
LAST-MODIFIED:20260107T122424Z
UID:7932-1774375200-1774380600@ohkolannuorisoseura.fi
SUMMARY:Lasten teatteri
DESCRIPTION:
URL:https://ohkolannuorisoseura.fi/event/lasten-teatteri-36/
END:VEVENT
BEGIN:VEVENT
DTSTART;TZID=Europe/Helsinki:20260325T180000
DTEND;TZID=Europe/Helsinki:20260325T200000
DTSTAMP:20260420T215018
CREATED:20260108T110856Z
LAST-MODIFIED:20260108T110856Z
UID:7979-1774461600-1774468800@ohkolannuorisoseura.fi
SUMMARY:Tanssi & kehonhuolto
DESCRIPTION:
URL:https://ohkolannuorisoseura.fi/event/tanssi-kehonhuolto-11/
END:VEVENT
BEGIN:VEVENT
DTSTART;TZID=Europe/Helsinki:20260326T180000
DTEND;TZID=Europe/Helsinki:20260326T210000
DTSTAMP:20260420T215018
CREATED:20260105T192743Z
LAST-MODIFIED:20260105T192743Z
UID:7876-1774548000-1774558800@ohkolannuorisoseura.fi
SUMMARY:Teatteri varaus (aikuiset)
DESCRIPTION:
URL:https://ohkolannuorisoseura.fi/event/teatteri-varaus-aikuiset-7/
END:VEVENT
BEGIN:VEVENT
DTSTART;TZID=Europe/Helsinki:20260327T180000
DTEND;TZID=Europe/Helsinki:20260327T200000
DTSTAMP:20260420T215018
CREATED:20260207T083539Z
LAST-MODIFIED:20260207T083539Z
UID:8068-1774634400-1774641600@ohkolannuorisoseura.fi
SUMMARY:Teatterilaiset
DESCRIPTION:
URL:https://ohkolannuorisoseura.fi/event/teatterilaiset-6/
END:VEVENT
BEGIN:VEVENT
DTSTART;VALUE=DATE:20260328
DTEND;VALUE=DATE:20260329
DTSTAMP:20260420T215018
CREATED:20260108T111247Z
LAST-MODIFIED:20260108T111247Z
UID:8003-1774656000-1774742399@ohkolannuorisoseura.fi
SUMMARY:Teatterilaisten juhlat
DESCRIPTION:
URL:https://ohkolannuorisoseura.fi/event/teatterilaisten-juhlat/
END:VEVENT
BEGIN:VEVENT
DTSTART;TZID=Europe/Helsinki:20260329T130000
DTEND;TZID=Europe/Helsinki:20260329T160000
DTSTAMP:20260420T215018
CREATED:20260105T192819Z
LAST-MODIFIED:20260105T192819Z
UID:7879-1774789200-1774800000@ohkolannuorisoseura.fi
SUMMARY:Teatteri varaus (aikuiset)
DESCRIPTION:
URL:https://ohkolannuorisoseura.fi/event/teatteri-varaus-aikuiset-8/
END:VEVENT
BEGIN:VEVENT
DTSTART;TZID=Europe/Helsinki:20260329T170000
DTEND;TZID=Europe/Helsinki:20260329T190000
DTSTAMP:20260420T215018
CREATED:20260226T111332Z
LAST-MODIFIED:20260226T111332Z
UID:8089-1774803600-1774810800@ohkolannuorisoseura.fi
SUMMARY:Kokous
DESCRIPTION:
URL:https://ohkolannuorisoseura.fi/event/kokous/
END:VEVENT
BEGIN:VEVENT
DTSTART;TZID=Europe/Helsinki:20260330T170000
DTEND;TZID=Europe/Helsinki:20260330T180000
DTSTAMP:20260420T215018
CREATED:20260104T114637Z
LAST-MODIFIED:20260104T114637Z
UID:7840-1774890000-1774893600@ohkolannuorisoseura.fi
SUMMARY:Tyttö- ja tenavakerho
DESCRIPTION:
URL:https://ohkolannuorisoseura.fi/event/tytto-ja-tenavakerho-12/
END:VEVENT
END:VCALENDAR