BEGIN:VCALENDAR
VERSION:2.0
PRODID:-//Ohkolan nuorisoseura - ECPv6.15.20//NONSGML v1.0//EN
CALSCALE:GREGORIAN
METHOD:PUBLISH
X-WR-CALNAME:Ohkolan nuorisoseura
X-ORIGINAL-URL:https://ohkolannuorisoseura.fi
X-WR-CALDESC:Tapahtumat Ohkolan nuorisoseura
REFRESH-INTERVAL;VALUE=DURATION:PT1H
X-Robots-Tag:noindex
X-PUBLISHED-TTL:PT1H
BEGIN:VTIMEZONE
TZID:Europe/Helsinki
BEGIN:DAYLIGHT
TZOFFSETFROM:+0200
TZOFFSETTO:+0300
TZNAME:EEST
DTSTART:20250330T010000
END:DAYLIGHT
BEGIN:STANDARD
TZOFFSETFROM:+0300
TZOFFSETTO:+0200
TZNAME:EET
DTSTART:20251026T010000
END:STANDARD
BEGIN:DAYLIGHT
TZOFFSETFROM:+0200
TZOFFSETTO:+0300
TZNAME:EEST
DTSTART:20260329T010000
END:DAYLIGHT
BEGIN:STANDARD
TZOFFSETFROM:+0300
TZOFFSETTO:+0200
TZNAME:EET
DTSTART:20261025T010000
END:STANDARD
BEGIN:DAYLIGHT
TZOFFSETFROM:+0200
TZOFFSETTO:+0300
TZNAME:EEST
DTSTART:20270328T010000
END:DAYLIGHT
BEGIN:STANDARD
TZOFFSETFROM:+0300
TZOFFSETTO:+0200
TZNAME:EET
DTSTART:20271031T010000
END:STANDARD
END:VTIMEZONE
BEGIN:VEVENT
DTSTART;VALUE=DATE:20260418
DTEND;VALUE=DATE:20260419
DTSTAMP:20260420T214443
CREATED:20260108T114203Z
LAST-MODIFIED:20260108T114203Z
UID:8027-1776470400-1776556799@ohkolannuorisoseura.fi
SUMMARY:Teatterilaiset
DESCRIPTION:
URL:https://ohkolannuorisoseura.fi/event/teatterilaiset-2/
END:VEVENT
BEGIN:VEVENT
DTSTART;TZID=Europe/Helsinki:20260419T100000
DTEND;TZID=Europe/Helsinki:20260419T130000
DTSTAMP:20260420T214443
CREATED:20260226T111536Z
LAST-MODIFIED:20260226T111536Z
UID:8092-1776592800-1776603600@ohkolannuorisoseura.fi
SUMMARY:Teatterikerho
DESCRIPTION:
URL:https://ohkolannuorisoseura.fi/event/teatterikerho-19/
END:VEVENT
BEGIN:VEVENT
DTSTART;TZID=Europe/Helsinki:20260419T130000
DTEND;TZID=Europe/Helsinki:20260419T160000
DTSTAMP:20260420T214443
CREATED:20260105T193122Z
LAST-MODIFIED:20260105T193122Z
UID:7891-1776603600-1776614400@ohkolannuorisoseura.fi
SUMMARY:Teatteri varaus (aikuiset)
DESCRIPTION:
URL:https://ohkolannuorisoseura.fi/event/teatteri-varaus-aikuiset-12/
END:VEVENT
BEGIN:VEVENT
DTSTART;TZID=Europe/Helsinki:20260420T170000
DTEND;TZID=Europe/Helsinki:20260420T180000
DTSTAMP:20260420T214443
CREATED:20260104T114920Z
LAST-MODIFIED:20260104T114920Z
UID:7851-1776704400-1776708000@ohkolannuorisoseura.fi
SUMMARY:Tyttö- ja tenavakerho
DESCRIPTION:
URL:https://ohkolannuorisoseura.fi/event/tytto-ja-tenavakerho-15/
END:VEVENT
BEGIN:VEVENT
DTSTART;TZID=Europe/Helsinki:20260420T180000
DTEND;TZID=Europe/Helsinki:20260420T200000
DTSTAMP:20260420T214443
CREATED:20260226T111738Z
LAST-MODIFIED:20260226T111738Z
UID:8098-1776708000-1776715200@ohkolannuorisoseura.fi
SUMMARY:Teatterilaiset
DESCRIPTION:
URL:https://ohkolannuorisoseura.fi/event/teatterilaiset-9/
END:VEVENT
BEGIN:VEVENT
DTSTART;TZID=Europe/Helsinki:20260421T180000
DTEND;TZID=Europe/Helsinki:20260421T193000
DTSTAMP:20260420T214443
CREATED:20260107T122714Z
LAST-MODIFIED:20260107T122714Z
UID:7944-1776794400-1776799800@ohkolannuorisoseura.fi
SUMMARY:Lasten teatteri
DESCRIPTION:
URL:https://ohkolannuorisoseura.fi/event/lasten-teatteri-40/
END:VEVENT
BEGIN:VEVENT
DTSTART;TZID=Europe/Helsinki:20260422T180000
DTEND;TZID=Europe/Helsinki:20260422T200000
DTSTAMP:20260420T214443
CREATED:20260108T111046Z
LAST-MODIFIED:20260108T111046Z
UID:7991-1776880800-1776888000@ohkolannuorisoseura.fi
SUMMARY:Tanssi & kehonhuolto
DESCRIPTION:
URL:https://ohkolannuorisoseura.fi/event/tanssi-kehonhuolto-15/
END:VEVENT
BEGIN:VEVENT
DTSTART;TZID=Europe/Helsinki:20260423T180000
DTEND;TZID=Europe/Helsinki:20260423T210000
DTSTAMP:20260420T214443
CREATED:20260105T193201Z
LAST-MODIFIED:20260105T193201Z
UID:7894-1776967200-1776978000@ohkolannuorisoseura.fi
SUMMARY:Teatteri varaus (aikuiset)
DESCRIPTION:
URL:https://ohkolannuorisoseura.fi/event/teatteri-varaus-aikuiset-13/
END:VEVENT
BEGIN:VEVENT
DTSTART;VALUE=DATE:20260425
DTEND;VALUE=DATE:20260426
DTSTAMP:20260420T214443
CREATED:20260108T111313Z
LAST-MODIFIED:20260108T111313Z
UID:8006-1777075200-1777161599@ohkolannuorisoseura.fi
SUMMARY:Avoimet ovet
DESCRIPTION:
URL:https://ohkolannuorisoseura.fi/event/avoimet-ovet-2/
END:VEVENT
BEGIN:VEVENT
DTSTART;TZID=Europe/Helsinki:20260426T130000
DTEND;TZID=Europe/Helsinki:20260426T160000
DTSTAMP:20260420T214443
CREATED:20260105T193238Z
LAST-MODIFIED:20260105T193238Z
UID:7897-1777208400-1777219200@ohkolannuorisoseura.fi
SUMMARY:Teatteri varaus (aikuiset)
DESCRIPTION:
URL:https://ohkolannuorisoseura.fi/event/teatteri-varaus-aikuiset-14/
END:VEVENT
BEGIN:VEVENT
DTSTART;TZID=Europe/Helsinki:20260427T170000
DTEND;TZID=Europe/Helsinki:20260427T180000
DTSTAMP:20260420T214443
CREATED:20260104T115014Z
LAST-MODIFIED:20260104T115014Z
UID:7854-1777309200-1777312800@ohkolannuorisoseura.fi
SUMMARY:Tyttö- ja tenavakerho
DESCRIPTION:
URL:https://ohkolannuorisoseura.fi/event/tytto-ja-tenavakerho-16/
END:VEVENT
BEGIN:VEVENT
DTSTART;TZID=Europe/Helsinki:20260428T180000
DTEND;TZID=Europe/Helsinki:20260428T193000
DTSTAMP:20260420T214443
CREATED:20260107T122752Z
LAST-MODIFIED:20260107T122752Z
UID:7947-1777399200-1777404600@ohkolannuorisoseura.fi
SUMMARY:Lasten teatteri
DESCRIPTION:
URL:https://ohkolannuorisoseura.fi/event/lasten-teatteri-41/
END:VEVENT
BEGIN:VEVENT
DTSTART;TZID=Europe/Helsinki:20260429T180000
DTEND;TZID=Europe/Helsinki:20260429T200000
DTSTAMP:20260420T214443
CREATED:20260108T111114Z
LAST-MODIFIED:20260108T111114Z
UID:7994-1777485600-1777492800@ohkolannuorisoseura.fi
SUMMARY:Tanssi & kehonhuolto
DESCRIPTION:
URL:https://ohkolannuorisoseura.fi/event/tanssi-kehonhuolto-16/
END:VEVENT
BEGIN:VEVENT
DTSTART;VALUE=DATE:20260501
DTEND;VALUE=DATE:20260504
DTSTAMP:20260420T214443
CREATED:20250403T105444Z
LAST-MODIFIED:20250403T105444Z
UID:7288-1777593600-1777852799@ohkolannuorisoseura.fi
SUMMARY:Varaus
DESCRIPTION:
URL:https://ohkolannuorisoseura.fi/event/varaus-40/
END:VEVENT
BEGIN:VEVENT
DTSTART;TZID=Europe/Helsinki:20260505T180000
DTEND;TZID=Europe/Helsinki:20260505T200000
DTSTAMP:20260420T214443
CREATED:20260226T112000Z
LAST-MODIFIED:20260226T112000Z
UID:8101-1778004000-1778011200@ohkolannuorisoseura.fi
SUMMARY:Lasten teatteri
DESCRIPTION:
URL:https://ohkolannuorisoseura.fi/event/lasten-teatteri-42/
END:VEVENT
BEGIN:VEVENT
DTSTART;TZID=Europe/Helsinki:20260506T180000
DTEND;TZID=Europe/Helsinki:20260506T200000
DTSTAMP:20260420T214443
CREATED:20260108T111140Z
LAST-MODIFIED:20260108T111140Z
UID:7997-1778090400-1778097600@ohkolannuorisoseura.fi
SUMMARY:Tanssi & kehonhuolto
DESCRIPTION:
URL:https://ohkolannuorisoseura.fi/event/tanssi-kehonhuolto-17/
END:VEVENT
BEGIN:VEVENT
DTSTART;TZID=Europe/Helsinki:20260509T080000
DTEND;TZID=Europe/Helsinki:20260509T160000
DTSTAMP:20260420T214443
CREATED:20260226T112033Z
LAST-MODIFIED:20260226T112033Z
UID:8104-1778313600-1778342400@ohkolannuorisoseura.fi
SUMMARY:Martat
DESCRIPTION:
URL:https://ohkolannuorisoseura.fi/event/martat-9/
END:VEVENT
BEGIN:VEVENT
DTSTART;TZID=Europe/Helsinki:20260512T180000
DTEND;TZID=Europe/Helsinki:20260512T200000
DTSTAMP:20260420T214443
CREATED:20260226T112211Z
LAST-MODIFIED:20260226T112211Z
UID:8107-1778608800-1778616000@ohkolannuorisoseura.fi
SUMMARY:Lasten teatteri
DESCRIPTION:
URL:https://ohkolannuorisoseura.fi/event/lasten-teatteri-43/
END:VEVENT
BEGIN:VEVENT
DTSTART;TZID=Europe/Helsinki:20260513T180000
DTEND;TZID=Europe/Helsinki:20260513T200000
DTSTAMP:20260420T214443
CREATED:20260108T111208Z
LAST-MODIFIED:20260108T111208Z
UID:8000-1778695200-1778702400@ohkolannuorisoseura.fi
SUMMARY:Tanssi & kehonhuolto
DESCRIPTION:
URL:https://ohkolannuorisoseura.fi/event/tanssi-kehonhuolto-18/
END:VEVENT
BEGIN:VEVENT
DTSTART;TZID=Europe/Helsinki:20260515T170000
DTEND;TZID=Europe/Helsinki:20260515T200000
DTSTAMP:20260420T214443
CREATED:20260226T112249Z
LAST-MODIFIED:20260226T112249Z
UID:8110-1778864400-1778875200@ohkolannuorisoseura.fi
SUMMARY:Lasten teatteri
DESCRIPTION:
URL:https://ohkolannuorisoseura.fi/event/lasten-teatteri-44/
END:VEVENT
BEGIN:VEVENT
DTSTART;TZID=Europe/Helsinki:20260517T110000
DTEND;TZID=Europe/Helsinki:20260517T160000
DTSTAMP:20260420T214443
CREATED:20260226T112326Z
LAST-MODIFIED:20260226T112326Z
UID:8113-1779015600-1779033600@ohkolannuorisoseura.fi
SUMMARY:Lasten teatteri
DESCRIPTION:
URL:https://ohkolannuorisoseura.fi/event/lasten-teatteri-45/
END:VEVENT
BEGIN:VEVENT
DTSTART;TZID=Europe/Helsinki:20260518T170000
DTEND;TZID=Europe/Helsinki:20260518T200000
DTSTAMP:20260420T214443
CREATED:20260226T112528Z
LAST-MODIFIED:20260226T112528Z
UID:8116-1779123600-1779134400@ohkolannuorisoseura.fi
SUMMARY:Lasten teatteri
DESCRIPTION:
URL:https://ohkolannuorisoseura.fi/event/lasten-teatteri-46/
END:VEVENT
BEGIN:VEVENT
DTSTART;TZID=Europe/Helsinki:20260519T170000
DTEND;TZID=Europe/Helsinki:20260519T200000
DTSTAMP:20260420T214443
CREATED:20260226T112608Z
LAST-MODIFIED:20260226T112608Z
UID:8119-1779210000-1779220800@ohkolannuorisoseura.fi
SUMMARY:Lasten teatteri
DESCRIPTION:
URL:https://ohkolannuorisoseura.fi/event/lasten-teatteri-47/
END:VEVENT
BEGIN:VEVENT
DTSTART;TZID=Europe/Helsinki:20260520T170000
DTEND;TZID=Europe/Helsinki:20260520T200000
DTSTAMP:20260420T214443
CREATED:20260226T112654Z
LAST-MODIFIED:20260226T112654Z
UID:8122-1779296400-1779307200@ohkolannuorisoseura.fi
SUMMARY:Lasten teatteri
DESCRIPTION:
URL:https://ohkolannuorisoseura.fi/event/lasten-teatteri-48/
END:VEVENT
BEGIN:VEVENT
DTSTART;TZID=Europe/Helsinki:20260523T140000
DTEND;TZID=Europe/Helsinki:20260523T210000
DTSTAMP:20260420T214443
CREATED:20260226T113347Z
LAST-MODIFIED:20260226T113347Z
UID:8125-1779544800-1779570000@ohkolannuorisoseura.fi
SUMMARY:Lasten teatteri
DESCRIPTION:
URL:https://ohkolannuorisoseura.fi/event/lasten-teatteri-49/
END:VEVENT
BEGIN:VEVENT
DTSTART;VALUE=DATE:20260605
DTEND;VALUE=DATE:20260608
DTSTAMP:20260420T214443
CREATED:20260226T113441Z
LAST-MODIFIED:20260226T113441Z
UID:8128-1780617600-1780876799@ohkolannuorisoseura.fi
SUMMARY:Varaus
DESCRIPTION:
URL:https://ohkolannuorisoseura.fi/event/varaus-57/
END:VEVENT
BEGIN:VEVENT
DTSTART;TZID=Europe/Helsinki:20260717T180000
DTEND;TZID=Europe/Helsinki:20260717T203000
DTSTAMP:20260420T214443
CREATED:20260319T185658Z
LAST-MODIFIED:20260319T191431Z
UID:8143-1784311200-1784320200@ohkolannuorisoseura.fi
SUMMARY:ENSI-ILTA: Prinsessa - Anna Lappalaisen aika Kellokoskella
DESCRIPTION:Anna Lappalainen sanoi olevansa kuninkaallinen prinsessa\, Buckinghamin palatsissa syntynyt\, Skotlannin kuningattaren tytär\, jonka aarnikotka oli vauvana kuljettanut Suomen Lappiin. \nAnna tuotiin Kellokosken sairaalaan vuonna 1933. Takana oli repaleinen lapsuus\, ura laulajana ja hierojana\, avioliitto ja sen romahtaminen. Edessä yli 50 vuotta psykiatrisessa sairaalassa Kellokoskella. \nHänen harhojaan yritettiin poistaa kaikin mahdollisin – jopa julmin – keinoin. Diagnoositkin vaihtuivat\, mutta mikään ei tehonnut. Lopulta hänen annettiin elää omassa totuudessaan. ”Ehkä hän on onnellisempi näin\, ehkä onnellisempi kuin kukaan meistä”\, toteaa yksi hoitavista lääkäreistä. \nAnna tuli tutuksi koko Kellokosken kylälle lauluillaan\, hierontakäynneillään ja tekaistuilla shekeillään\, halutessaan auttaa vähempiosaisia. Monet vanhemmat kellokoskelaiset muistavat hänet yhä. \nArto Halosen ja Pirjo Toikan kirjoittama Prinsessa kertoo tästä ainutlaatuisesta kellokoskelaisesta hellästi ja ymmärtäväisesti\, ja herättää pohtimaan mitä oikeastaan tarkoittavat järki\, hulluus ja onnellisuus. \nTänä vuonna Anna Lappalaisen syntymästä tulee kuluneeksi 130 vuotta. Siksi Prinsessa saa puheteatteri-kantaesityksensä juuri Ohkolassa. Esitykset Öljymäen kesäteatterissa 17.7.–29.8.2026. Sovitus ja ohjaus: Heini Tola. Näytelmää ei suositella alle 13-vuotiaille. \nEsitykset:\n 17.7. klo 18:00 Ensi-ilta\n 19.7. klo 16:00\n 22.7. klo 19:00\n 25.7. klo 16:00\n 26.7. klo 16:00\n 29.7. klo 19:00\n 30.7. klo 19:00\n 1.8. klo 16:00\n 2.8. klo 16:00\n 5.8. klo 19:00\n 9.8. klo 16:00\n 19.8. klo 19:00\n 20.8. klo 19:00\n 21.8. klo 19:00\n 23.8. klo 16:00\n 26.8. klo 19:00\n 27.8. klo 19:00\n 28.8. klo 19:00 \nPrinsessa – Anna Lappalaisen aika Kellokoskella \nNäytelmä: Arto Halonen ja Pirjo Toikka \nNäytelmän esitysoikeuksia valvoo Suomen Näytelmäkirjailijat ja Käsikirjoittajat ry.
URL:https://ohkolannuorisoseura.fi/event/ensi-ilta-prinsessa-anna-lappalaisen-aika-kellokoskella/
LOCATION:Ohkolan teatteri\, Öljymäen kesäteatteri\, Öljymäenkuja 1\, Ohkola\, 04530\, Finland
CATEGORIES:Kesäteatteri,Prinsessa
ORGANIZER;CN="Ohkolan nuorisoseura":MAILTO:ohkolanns@outlook.com
END:VEVENT
BEGIN:VEVENT
DTSTART;VALUE=DATE:20260724
DTEND;VALUE=DATE:20260727
DTSTAMP:20260420T214443
CREATED:20251111T111746Z
LAST-MODIFIED:20251111T111746Z
UID:7766-1784851200-1785110399@ohkolannuorisoseura.fi
SUMMARY:Varaus
DESCRIPTION:
URL:https://ohkolannuorisoseura.fi/event/varaus-52/
END:VEVENT
BEGIN:VEVENT
DTSTART;VALUE=DATE:20260731
DTEND;VALUE=DATE:20260803
DTSTAMP:20260420T214443
CREATED:20260108T114415Z
LAST-MODIFIED:20260108T114415Z
UID:8030-1785456000-1785715199@ohkolannuorisoseura.fi
SUMMARY:Varaus
DESCRIPTION:
URL:https://ohkolannuorisoseura.fi/event/varaus-56/
END:VEVENT
BEGIN:VEVENT
DTSTART;VALUE=DATE:20260807
DTEND;VALUE=DATE:20260810
DTSTAMP:20260420T214443
CREATED:20250921T145905Z
LAST-MODIFIED:20250921T145905Z
UID:7716-1786060800-1786319999@ohkolannuorisoseura.fi
SUMMARY:Varaus
DESCRIPTION:
URL:https://ohkolannuorisoseura.fi/event/varaus-49/
END:VEVENT
END:VCALENDAR