BEGIN:VCALENDAR
VERSION:2.0
PRODID:-//Ohkolan nuorisoseura - ECPv6.15.20//NONSGML v1.0//EN
CALSCALE:GREGORIAN
METHOD:PUBLISH
X-WR-CALNAME:Ohkolan nuorisoseura
X-ORIGINAL-URL:https://ohkolannuorisoseura.fi
X-WR-CALDESC:Tapahtumat Ohkolan nuorisoseura
REFRESH-INTERVAL;VALUE=DURATION:PT1H
X-Robots-Tag:noindex
X-PUBLISHED-TTL:PT1H
BEGIN:VTIMEZONE
TZID:Europe/Helsinki
BEGIN:DAYLIGHT
TZOFFSETFROM:+0200
TZOFFSETTO:+0300
TZNAME:EEST
DTSTART:20250330T010000
END:DAYLIGHT
BEGIN:STANDARD
TZOFFSETFROM:+0300
TZOFFSETTO:+0200
TZNAME:EET
DTSTART:20251026T010000
END:STANDARD
BEGIN:DAYLIGHT
TZOFFSETFROM:+0200
TZOFFSETTO:+0300
TZNAME:EEST
DTSTART:20260329T010000
END:DAYLIGHT
BEGIN:STANDARD
TZOFFSETFROM:+0300
TZOFFSETTO:+0200
TZNAME:EET
DTSTART:20261025T010000
END:STANDARD
BEGIN:DAYLIGHT
TZOFFSETFROM:+0200
TZOFFSETTO:+0300
TZNAME:EEST
DTSTART:20270328T010000
END:DAYLIGHT
BEGIN:STANDARD
TZOFFSETFROM:+0300
TZOFFSETTO:+0200
TZNAME:EET
DTSTART:20271031T010000
END:STANDARD
END:VTIMEZONE
BEGIN:VEVENT
DTSTART;TZID=Europe/Helsinki:20260330T170000
DTEND;TZID=Europe/Helsinki:20260330T180000
DTSTAMP:20260420T184826
CREATED:20260104T114637Z
LAST-MODIFIED:20260104T114637Z
UID:7840-1774890000-1774893600@ohkolannuorisoseura.fi
SUMMARY:Tyttö- ja tenavakerho
DESCRIPTION:
URL:https://ohkolannuorisoseura.fi/event/tytto-ja-tenavakerho-12/
END:VEVENT
BEGIN:VEVENT
DTSTART;TZID=Europe/Helsinki:20260330T180000
DTEND;TZID=Europe/Helsinki:20260330T200000
DTSTAMP:20260420T184826
CREATED:20260207T083712Z
LAST-MODIFIED:20260207T083712Z
UID:8072-1774893600-1774900800@ohkolannuorisoseura.fi
SUMMARY:Teatterilaiset
DESCRIPTION:
URL:https://ohkolannuorisoseura.fi/event/teatterilaiset-7/
END:VEVENT
END:VCALENDAR