BEGIN:VCALENDAR
VERSION:2.0
PRODID:-//Ohkolan nuorisoseura - ECPv6.15.20//NONSGML v1.0//EN
CALSCALE:GREGORIAN
METHOD:PUBLISH
X-WR-CALNAME:Ohkolan nuorisoseura
X-ORIGINAL-URL:https://ohkolannuorisoseura.fi
X-WR-CALDESC:Tapahtumat Ohkolan nuorisoseura
REFRESH-INTERVAL;VALUE=DURATION:PT1H
X-Robots-Tag:noindex
X-PUBLISHED-TTL:PT1H
BEGIN:VTIMEZONE
TZID:Europe/Helsinki
BEGIN:DAYLIGHT
TZOFFSETFROM:+0200
TZOFFSETTO:+0300
TZNAME:EEST
DTSTART:20240331T010000
END:DAYLIGHT
BEGIN:STANDARD
TZOFFSETFROM:+0300
TZOFFSETTO:+0200
TZNAME:EET
DTSTART:20241027T010000
END:STANDARD
BEGIN:DAYLIGHT
TZOFFSETFROM:+0200
TZOFFSETTO:+0300
TZNAME:EEST
DTSTART:20250330T010000
END:DAYLIGHT
BEGIN:STANDARD
TZOFFSETFROM:+0300
TZOFFSETTO:+0200
TZNAME:EET
DTSTART:20251026T010000
END:STANDARD
BEGIN:DAYLIGHT
TZOFFSETFROM:+0200
TZOFFSETTO:+0300
TZNAME:EEST
DTSTART:20260329T010000
END:DAYLIGHT
BEGIN:STANDARD
TZOFFSETFROM:+0300
TZOFFSETTO:+0200
TZNAME:EET
DTSTART:20261025T010000
END:STANDARD
END:VTIMEZONE
BEGIN:VEVENT
DTSTART;TZID=Europe/Helsinki:20251127T093000
DTEND;TZID=Europe/Helsinki:20251127T113000
DTSTAMP:20260422T201630
CREATED:20250820T102037Z
LAST-MODIFIED:20250820T102037Z
UID:7688-1764235800-1764243000@ohkolannuorisoseura.fi
SUMMARY:Perhekerho
DESCRIPTION:
URL:https://ohkolannuorisoseura.fi/event/perhekerho-45/
END:VEVENT
BEGIN:VEVENT
DTSTART;TZID=Europe/Helsinki:20251127T180000
DTEND;TZID=Europe/Helsinki:20251127T200000
DTSTAMP:20260422T201630
CREATED:20250118T080630Z
LAST-MODIFIED:20250118T080630Z
UID:7072-1764266400-1764273600@ohkolannuorisoseura.fi
SUMMARY:Syyskokous
DESCRIPTION:
URL:https://ohkolannuorisoseura.fi/event/syyskokous-2/
END:VEVENT
END:VCALENDAR