BEGIN:VCALENDAR
VERSION:2.0
PRODID:-//Ohkolan nuorisoseura - ECPv6.15.20//NONSGML v1.0//EN
CALSCALE:GREGORIAN
METHOD:PUBLISH
X-WR-CALNAME:Ohkolan nuorisoseura
X-ORIGINAL-URL:https://ohkolannuorisoseura.fi
X-WR-CALDESC:Tapahtumat Ohkolan nuorisoseura
REFRESH-INTERVAL;VALUE=DURATION:PT1H
X-Robots-Tag:noindex
X-PUBLISHED-TTL:PT1H
BEGIN:VTIMEZONE
TZID:Europe/Helsinki
BEGIN:DAYLIGHT
TZOFFSETFROM:+0200
TZOFFSETTO:+0300
TZNAME:EEST
DTSTART:20240331T010000
END:DAYLIGHT
BEGIN:STANDARD
TZOFFSETFROM:+0300
TZOFFSETTO:+0200
TZNAME:EET
DTSTART:20241027T010000
END:STANDARD
BEGIN:DAYLIGHT
TZOFFSETFROM:+0200
TZOFFSETTO:+0300
TZNAME:EEST
DTSTART:20250330T010000
END:DAYLIGHT
BEGIN:STANDARD
TZOFFSETFROM:+0300
TZOFFSETTO:+0200
TZNAME:EET
DTSTART:20251026T010000
END:STANDARD
BEGIN:DAYLIGHT
TZOFFSETFROM:+0200
TZOFFSETTO:+0300
TZNAME:EEST
DTSTART:20260329T010000
END:DAYLIGHT
BEGIN:STANDARD
TZOFFSETFROM:+0300
TZOFFSETTO:+0200
TZNAME:EET
DTSTART:20261025T010000
END:STANDARD
END:VTIMEZONE
BEGIN:VEVENT
DTSTART;VALUE=DATE:20251122
DTEND;VALUE=DATE:20251124
DTSTAMP:20260422T201632
CREATED:20250720T095520Z
LAST-MODIFIED:20250720T095520Z
UID:7461-1763769600-1763942399@ohkolannuorisoseura.fi
SUMMARY:Varaus
DESCRIPTION:
URL:https://ohkolannuorisoseura.fi/event/varaus-46/
END:VEVENT
BEGIN:VEVENT
DTSTART;TZID=Europe/Helsinki:20251123T170000
DTEND;TZID=Europe/Helsinki:20251123T200000
DTSTAMP:20260422T201632
CREATED:20250820T101944Z
LAST-MODIFIED:20250820T101944Z
UID:7685-1763917200-1763928000@ohkolannuorisoseura.fi
SUMMARY:Vaellus
DESCRIPTION:
URL:https://ohkolannuorisoseura.fi/event/vaellus/
END:VEVENT
END:VCALENDAR