BEGIN:VCALENDAR
VERSION:2.0
PRODID:-//Ohkolan nuorisoseura - ECPv6.15.20//NONSGML v1.0//EN
CALSCALE:GREGORIAN
METHOD:PUBLISH
X-WR-CALNAME:Ohkolan nuorisoseura
X-ORIGINAL-URL:https://ohkolannuorisoseura.fi
X-WR-CALDESC:Tapahtumat Ohkolan nuorisoseura
REFRESH-INTERVAL;VALUE=DURATION:PT1H
X-Robots-Tag:noindex
X-PUBLISHED-TTL:PT1H
BEGIN:VTIMEZONE
TZID:Europe/Helsinki
BEGIN:DAYLIGHT
TZOFFSETFROM:+0200
TZOFFSETTO:+0300
TZNAME:EEST
DTSTART:20240331T010000
END:DAYLIGHT
BEGIN:STANDARD
TZOFFSETFROM:+0300
TZOFFSETTO:+0200
TZNAME:EET
DTSTART:20241027T010000
END:STANDARD
BEGIN:DAYLIGHT
TZOFFSETFROM:+0200
TZOFFSETTO:+0300
TZNAME:EEST
DTSTART:20250330T010000
END:DAYLIGHT
BEGIN:STANDARD
TZOFFSETFROM:+0300
TZOFFSETTO:+0200
TZNAME:EET
DTSTART:20251026T010000
END:STANDARD
BEGIN:DAYLIGHT
TZOFFSETFROM:+0200
TZOFFSETTO:+0300
TZNAME:EEST
DTSTART:20260329T010000
END:DAYLIGHT
BEGIN:STANDARD
TZOFFSETFROM:+0300
TZOFFSETTO:+0200
TZNAME:EET
DTSTART:20261025T010000
END:STANDARD
END:VTIMEZONE
BEGIN:VEVENT
DTSTART;TZID=Europe/Helsinki:20250903T180000
DTEND;TZID=Europe/Helsinki:20250903T200000
DTSTAMP:20260422T233228
CREATED:20250120T114524Z
LAST-MODIFIED:20250120T114524Z
UID:7142-1756922400-1756929600@ohkolannuorisoseura.fi
SUMMARY:Johtokunta kokous
DESCRIPTION:
URL:https://ohkolannuorisoseura.fi/event/johtokunta-kokous-8/
END:VEVENT
BEGIN:VEVENT
DTSTART;TZID=Europe/Helsinki:20250903T180000
DTEND;TZID=Europe/Helsinki:20250903T200000
DTSTAMP:20260422T233228
CREATED:20250711T100555Z
LAST-MODIFIED:20250711T100555Z
UID:7367-1756922400-1756929600@ohkolannuorisoseura.fi
SUMMARY:Tanssi ja kehonhuolto
DESCRIPTION:
URL:https://ohkolannuorisoseura.fi/event/tanssi-ja-kehonhuolto-2/
END:VEVENT
END:VCALENDAR